BEGIN:VCALENDAR
VERSION:2.0
PRODID:-//SUEBU - ECPv6.15.17//NONSGML v1.0//EN
CALSCALE:GREGORIAN
METHOD:PUBLISH
X-WR-CALNAME:SUEBU
X-ORIGINAL-URL:https://www.suebu.org.uy
X-WR-CALDESC:Eventos para SUEBU
REFRESH-INTERVAL;VALUE=DURATION:PT1H
X-Robots-Tag:noindex
X-PUBLISHED-TTL:PT1H
BEGIN:VTIMEZONE
TZID:America/Montevideo
BEGIN:STANDARD
TZOFFSETFROM:-0300
TZOFFSETTO:-0300
TZNAME:-03
DTSTART:20250101T000000
END:STANDARD
END:VTIMEZONE
BEGIN:VEVENT
DTSTART;VALUE=DATE:20260301
DTEND;VALUE=DATE:20260302
DTSTAMP:20260421T171741
CREATED:20260225T225601Z
LAST-MODIFIED:20260225T225601Z
UID:4241-1772323200-1772409599@www.suebu.org.uy
SUMMARY:Mauro Montes de Oca
DESCRIPTION:
URL:https://www.suebu.org.uy/event/mauro-montes-de-oca-6/
END:VEVENT
BEGIN:VEVENT
DTSTART;VALUE=DATE:20260306
DTEND;VALUE=DATE:20260307
DTSTAMP:20260421T171741
CREATED:20260225T225704Z
LAST-MODIFIED:20260225T225704Z
UID:4243-1772755200-1772841599@www.suebu.org.uy
SUMMARY:Ignacio Méndez
DESCRIPTION:
URL:https://www.suebu.org.uy/event/ignacio-mendez-4/
END:VEVENT
BEGIN:VEVENT
DTSTART;VALUE=DATE:20260307
DTEND;VALUE=DATE:20260308
DTSTAMP:20260421T171741
CREATED:20260205T200543Z
LAST-MODIFIED:20260205T200543Z
UID:4229-1772841600-1772927999@www.suebu.org.uy
SUMMARY:Dayana Carballo
DESCRIPTION:
URL:https://www.suebu.org.uy/event/dayana-carballo-5/
END:VEVENT
BEGIN:VEVENT
DTSTART;VALUE=DATE:20260308
DTEND;VALUE=DATE:20260309
DTSTAMP:20260421T171741
CREATED:20260205T200631Z
LAST-MODIFIED:20260205T200631Z
UID:4231-1772928000-1773014399@www.suebu.org.uy
SUMMARY:Natalia Vázquez
DESCRIPTION:
URL:https://www.suebu.org.uy/event/natalia-vazquez-2/
END:VEVENT
BEGIN:VEVENT
DTSTART;VALUE=DATE:20260314
DTEND;VALUE=DATE:20260315
DTSTAMP:20260421T171741
CREATED:20260205T200738Z
LAST-MODIFIED:20260205T200738Z
UID:4233-1773446400-1773532799@www.suebu.org.uy
SUMMARY:Agustín Cestau
DESCRIPTION:
URL:https://www.suebu.org.uy/event/agustin-cestau-3/
END:VEVENT
BEGIN:VEVENT
DTSTART;VALUE=DATE:20260315
DTEND;VALUE=DATE:20260316
DTSTAMP:20260421T171741
CREATED:20260205T200810Z
LAST-MODIFIED:20260205T200810Z
UID:4235-1773532800-1773619199@www.suebu.org.uy
SUMMARY:César Olivera
DESCRIPTION:
URL:https://www.suebu.org.uy/event/cesar-olivera-3/
END:VEVENT
BEGIN:VEVENT
DTSTART;VALUE=DATE:20260321
DTEND;VALUE=DATE:20260322
DTSTAMP:20260421T171741
CREATED:20260205T200843Z
LAST-MODIFIED:20260205T200843Z
UID:4237-1774051200-1774137599@www.suebu.org.uy
SUMMARY:Miguel Florenciano
DESCRIPTION:
URL:https://www.suebu.org.uy/event/miguel-florenciano/
END:VEVENT
END:VCALENDAR