BEGIN:VCALENDAR
VERSION:2.0
PRODID:-//SUEBU - ECPv6.15.17//NONSGML v1.0//EN
CALSCALE:GREGORIAN
METHOD:PUBLISH
X-ORIGINAL-URL:https://www.suebu.org.uy
X-WR-CALDESC:Eventos para SUEBU
REFRESH-INTERVAL;VALUE=DURATION:PT1H
X-Robots-Tag:noindex
X-PUBLISHED-TTL:PT1H
BEGIN:VTIMEZONE
TZID:America/Montevideo
BEGIN:STANDARD
TZOFFSETFROM:-0300
TZOFFSETTO:-0300
TZNAME:-03
DTSTART:20210101T000000
END:STANDARD
END:VTIMEZONE
BEGIN:VEVENT
DTSTART;VALUE=DATE:20220904
DTEND;VALUE=DATE:20220905
DTSTAMP:20260423T145401
CREATED:20220830T002532Z
LAST-MODIFIED:20220830T002532Z
UID:3067-1662249600-1662335999@www.suebu.org.uy
SUMMARY:Joaquin Romero
DESCRIPTION:
URL:https://www.suebu.org.uy/event/joaquin-romero-3/
END:VEVENT
BEGIN:VEVENT
DTSTART;VALUE=DATE:20220903
DTEND;VALUE=DATE:20220904
DTSTAMP:20260423T145401
CREATED:20220823T134129Z
LAST-MODIFIED:20220823T134129Z
UID:3061-1662163200-1662249599@www.suebu.org.uy
SUMMARY:Mauricio Fonrodona
DESCRIPTION:
URL:https://www.suebu.org.uy/event/mauricio-fonrodona/
END:VEVENT
BEGIN:VEVENT
DTSTART;VALUE=DATE:20220827
DTEND;VALUE=DATE:20220828
DTSTAMP:20260423T145401
CREATED:20220812T133552Z
LAST-MODIFIED:20220812T133552Z
UID:3042-1661558400-1661644799@www.suebu.org.uy
SUMMARY:Nathalie Rodriguez
DESCRIPTION:
URL:https://www.suebu.org.uy/event/nathalie-rodriguez/
END:VEVENT
BEGIN:VEVENT
DTSTART;VALUE=DATE:20220820
DTEND;VALUE=DATE:20220821
DTSTAMP:20260423T145401
CREATED:20220809T193818Z
LAST-MODIFIED:20220812T133816Z
UID:3029-1660953600-1661039999@www.suebu.org.uy
SUMMARY:Jimena Montfalcon
DESCRIPTION:
URL:https://www.suebu.org.uy/event/jimena-montfalcon/
END:VEVENT
BEGIN:VEVENT
DTSTART;VALUE=DATE:20220814
DTEND;VALUE=DATE:20220815
DTSTAMP:20260423T145401
CREATED:20220812T212819Z
LAST-MODIFIED:20220812T212819Z
UID:3044-1660435200-1660521599@www.suebu.org.uy
SUMMARY:Lorna Espinosa
DESCRIPTION:
URL:https://www.suebu.org.uy/event/lorna-espinosa/
END:VEVENT
END:VCALENDAR