BEGIN:VCALENDAR
VERSION:2.0
PRODID:-//SUEBU - ECPv6.15.17//NONSGML v1.0//EN
CALSCALE:GREGORIAN
METHOD:PUBLISH
X-WR-CALNAME:SUEBU
X-ORIGINAL-URL:https://www.suebu.org.uy
X-WR-CALDESC:Eventos para SUEBU
REFRESH-INTERVAL;VALUE=DURATION:PT1H
X-Robots-Tag:noindex
X-PUBLISHED-TTL:PT1H
BEGIN:VTIMEZONE
TZID:America/Montevideo
BEGIN:STANDARD
TZOFFSETFROM:-0300
TZOFFSETTO:-0300
TZNAME:-03
DTSTART:20220101T000000
END:STANDARD
END:VTIMEZONE
BEGIN:VEVENT
DTSTART;VALUE=DATE:20230827
DTEND;VALUE=DATE:20230828
DTSTAMP:20260423T045405
CREATED:20230720T002638Z
LAST-MODIFIED:20230720T002638Z
UID:3281-1693094400-1693180799@www.suebu.org.uy
SUMMARY:Fernando Castro
DESCRIPTION:
URL:https://www.suebu.org.uy/event/fernando-castro/
END:VEVENT
BEGIN:VEVENT
DTSTART;VALUE=DATE:20230826
DTEND;VALUE=DATE:20230827
DTSTAMP:20260423T045405
CREATED:20230711T140708Z
LAST-MODIFIED:20230711T140708Z
UID:3272-1693008000-1693094399@www.suebu.org.uy
SUMMARY:Patricia Vignolo
DESCRIPTION:
URL:https://www.suebu.org.uy/event/patricia-vignolo-6/
END:VEVENT
BEGIN:VEVENT
DTSTART;VALUE=DATE:20230825
DTEND;VALUE=DATE:20230826
DTSTAMP:20260423T045405
CREATED:20230817T184310Z
LAST-MODIFIED:20230817T184310Z
UID:3302-1692921600-1693007999@www.suebu.org.uy
SUMMARY:Jorge Ochovsky
DESCRIPTION:
URL:https://www.suebu.org.uy/event/jorge-ochovsky/
END:VEVENT
BEGIN:VEVENT
DTSTART;VALUE=DATE:20230820
DTEND;VALUE=DATE:20230821
DTSTAMP:20260423T045405
CREATED:20230805T224225Z
LAST-MODIFIED:20230805T224225Z
UID:3289-1692489600-1692575999@www.suebu.org.uy
SUMMARY:Leo Schialvo
DESCRIPTION:
URL:https://www.suebu.org.uy/event/leo-schialvo-4/
END:VEVENT
BEGIN:VEVENT
DTSTART;VALUE=DATE:20230819
DTEND;VALUE=DATE:20230820
DTSTAMP:20260423T045405
CREATED:20230719T220542Z
LAST-MODIFIED:20230805T224314Z
UID:3279-1692403200-1692489599@www.suebu.org.uy
SUMMARY:Juanjo Andrada
DESCRIPTION:
URL:https://www.suebu.org.uy/event/leo-schialvo-3/
END:VEVENT
BEGIN:VEVENT
DTSTART;VALUE=DATE:20230818
DTEND;VALUE=DATE:20230819
DTSTAMP:20260423T045405
CREATED:20230720T132716Z
LAST-MODIFIED:20230720T132716Z
UID:3283-1692316800-1692403199@www.suebu.org.uy
SUMMARY:Jimena Montfalcon
DESCRIPTION:
URL:https://www.suebu.org.uy/event/jimena-montfalcon-6/
END:VEVENT
BEGIN:VEVENT
DTSTART;VALUE=DATE:20230813
DTEND;VALUE=DATE:20230814
DTSTAMP:20260423T045405
CREATED:20230624T140301Z
LAST-MODIFIED:20230624T140301Z
UID:3260-1691884800-1691971199@www.suebu.org.uy
SUMMARY:Carlos Viera
DESCRIPTION:
URL:https://www.suebu.org.uy/event/carlos-viera/
END:VEVENT
BEGIN:VEVENT
DTSTART;VALUE=DATE:20230812
DTEND;VALUE=DATE:20230813
DTSTAMP:20260423T045405
CREATED:20230708T223759Z
LAST-MODIFIED:20230708T223759Z
UID:3270-1691798400-1691884799@www.suebu.org.uy
SUMMARY:Patricia Vignolo
DESCRIPTION:
URL:https://www.suebu.org.uy/event/patricia-vignolo-5/
END:VEVENT
BEGIN:VEVENT
DTSTART;VALUE=DATE:20230805
DTEND;VALUE=DATE:20230806
DTSTAMP:20260423T045405
CREATED:20230617T122001Z
LAST-MODIFIED:20230617T122001Z
UID:3251-1691193600-1691279999@www.suebu.org.uy
SUMMARY:Mauricio Fonrodona
DESCRIPTION:
URL:https://www.suebu.org.uy/event/mauricio-fonrodona-4/
END:VEVENT
BEGIN:VEVENT
DTSTART;VALUE=DATE:20230804
DTEND;VALUE=DATE:20230805
DTSTAMP:20260423T045405
CREATED:20230718T013058Z
LAST-MODIFIED:20230718T013058Z
UID:3275-1691107200-1691193599@www.suebu.org.uy
SUMMARY:Juanjo Andrada
DESCRIPTION:
URL:https://www.suebu.org.uy/event/juanjo-andrada-2/
END:VEVENT
BEGIN:VEVENT
DTSTART;VALUE=DATE:20230723
DTEND;VALUE=DATE:20230724
DTSTAMP:20260423T045405
CREATED:20230624T140221Z
LAST-MODIFIED:20230624T140221Z
UID:3258-1690070400-1690156799@www.suebu.org.uy
SUMMARY:Romina Gutierrez
DESCRIPTION:
URL:https://www.suebu.org.uy/event/romina-gutierrez/
END:VEVENT
BEGIN:VEVENT
DTSTART;VALUE=DATE:20230722
DTEND;VALUE=DATE:20230723
DTSTAMP:20260423T045405
CREATED:20230624T140151Z
LAST-MODIFIED:20230624T140151Z
UID:3256-1689984000-1690070399@www.suebu.org.uy
SUMMARY:Jimena Montfalcón
DESCRIPTION:
URL:https://www.suebu.org.uy/event/jimena-montfalcon-5/
END:VEVENT
BEGIN:VEVENT
DTSTART;VALUE=DATE:20230715
DTEND;VALUE=DATE:20230716
DTSTAMP:20260423T045405
CREATED:20230624T135832Z
LAST-MODIFIED:20230624T135832Z
UID:3254-1689379200-1689465599@www.suebu.org.uy
SUMMARY:Gastón Domínguez
DESCRIPTION:
URL:https://www.suebu.org.uy/event/gaston-dominguez-3/
END:VEVENT
BEGIN:VEVENT
DTSTART;VALUE=DATE:20230708
DTEND;VALUE=DATE:20230709
DTSTAMP:20260423T045405
CREATED:20230426T155311Z
LAST-MODIFIED:20230617T121915Z
UID:3205-1688774400-1688860799@www.suebu.org.uy
SUMMARY:Alejandro Cordatti
DESCRIPTION:
URL:https://www.suebu.org.uy/event/ramon-abadal-2/
END:VEVENT
BEGIN:VEVENT
DTSTART;VALUE=DATE:20230707
DTEND;VALUE=DATE:20230708
DTSTAMP:20260423T045405
CREATED:20230625T142542Z
LAST-MODIFIED:20230625T142542Z
UID:3263-1688688000-1688774399@www.suebu.org.uy
SUMMARY:Patricia Vignolo
DESCRIPTION:
URL:https://www.suebu.org.uy/event/patricia-vignolo-3/
END:VEVENT
BEGIN:VEVENT
DTSTART;VALUE=DATE:20230706
DTEND;VALUE=DATE:20230707
DTSTAMP:20260423T045405
CREATED:20230601T155523Z
LAST-MODIFIED:20230601T155523Z
UID:3232-1688601600-1688687999@www.suebu.org.uy
SUMMARY:Silvia Carro
DESCRIPTION:
URL:https://www.suebu.org.uy/event/silvia-carro-3/
END:VEVENT
BEGIN:VEVENT
DTSTART;VALUE=DATE:20230704
DTEND;VALUE=DATE:20230705
DTSTAMP:20260423T045405
CREATED:20230617T121813Z
LAST-MODIFIED:20230617T121813Z
UID:3248-1688428800-1688515199@www.suebu.org.uy
SUMMARY:Silvia Carro
DESCRIPTION:
URL:https://www.suebu.org.uy/event/silvia-carro-4/
END:VEVENT
BEGIN:VEVENT
DTSTART;VALUE=DATE:20230702
DTEND;VALUE=DATE:20230703
DTSTAMP:20260423T045405
CREATED:20230617T121734Z
LAST-MODIFIED:20230617T121734Z
UID:3246-1688256000-1688342399@www.suebu.org.uy
SUMMARY:María Blanco
DESCRIPTION:
URL:https://www.suebu.org.uy/event/maria-blanco-3/
END:VEVENT
BEGIN:VEVENT
DTSTART;VALUE=DATE:20230701
DTEND;VALUE=DATE:20230702
DTSTAMP:20260423T045405
CREATED:20230628T222128Z
LAST-MODIFIED:20230628T222128Z
UID:3267-1688169600-1688255999@www.suebu.org.uy
SUMMARY:Christopher Aldama
DESCRIPTION:
URL:https://www.suebu.org.uy/event/christopher-aldama/
END:VEVENT
BEGIN:VEVENT
DTSTART;VALUE=DATE:20230630
DTEND;VALUE=DATE:20230701
DTSTAMP:20260423T045405
CREATED:20230625T185544Z
LAST-MODIFIED:20230625T185544Z
UID:3265-1688083200-1688169599@www.suebu.org.uy
SUMMARY:Patricia Vignolo
DESCRIPTION:
URL:https://www.suebu.org.uy/event/patricia-vignolo-4/
END:VEVENT
BEGIN:VEVENT
DTSTART;VALUE=DATE:20230625
DTEND;VALUE=DATE:20230626
DTSTAMP:20260423T045405
CREATED:20230617T121641Z
LAST-MODIFIED:20230617T121641Z
UID:3244-1687651200-1687737599@www.suebu.org.uy
SUMMARY:Patricia Vignolo
DESCRIPTION:
URL:https://www.suebu.org.uy/event/patricia-vignolo-2/
END:VEVENT
BEGIN:VEVENT
DTSTART;VALUE=DATE:20230624
DTEND;VALUE=DATE:20230625
DTSTAMP:20260423T045405
CREATED:20230531T152344Z
LAST-MODIFIED:20230531T152344Z
UID:3229-1687564800-1687651199@www.suebu.org.uy
SUMMARY:Dayana Carballo
DESCRIPTION:
URL:https://www.suebu.org.uy/event/dayana-carballo-2/
END:VEVENT
BEGIN:VEVENT
DTSTART;VALUE=DATE:20230623
DTEND;VALUE=DATE:20230624
DTSTAMP:20260423T045405
CREATED:20230508T221527Z
LAST-MODIFIED:20230508T221527Z
UID:3226-1687478400-1687564799@www.suebu.org.uy
SUMMARY:Edison Castillo
DESCRIPTION:
URL:https://www.suebu.org.uy/event/edison-castillo-2/
END:VEVENT
BEGIN:VEVENT
DTSTART;VALUE=DATE:20230619
DTEND;VALUE=DATE:20230620
DTSTAMP:20260423T045405
CREATED:20230617T121544Z
LAST-MODIFIED:20230617T121544Z
UID:3242-1687132800-1687219199@www.suebu.org.uy
SUMMARY:Juan Carlos Rodriguez
DESCRIPTION:
URL:https://www.suebu.org.uy/event/juan-carlos-rodriguez/
END:VEVENT
BEGIN:VEVENT
DTSTART;VALUE=DATE:20230618
DTEND;VALUE=DATE:20230619
DTSTAMP:20260423T045405
CREATED:20230617T121517Z
LAST-MODIFIED:20230617T121517Z
UID:3240-1687046400-1687132799@www.suebu.org.uy
SUMMARY:Mathias Lozano
DESCRIPTION:
URL:https://www.suebu.org.uy/event/mathias-lozano-3/
END:VEVENT
BEGIN:VEVENT
DTSTART;VALUE=DATE:20230617
DTEND;VALUE=DATE:20230618
DTSTAMP:20260423T045405
CREATED:20230617T121452Z
LAST-MODIFIED:20230617T121452Z
UID:3238-1686960000-1687046399@www.suebu.org.uy
SUMMARY:Mauricio Fonrodona
DESCRIPTION:
URL:https://www.suebu.org.uy/event/mauricio-fonrodona-3/
END:VEVENT
BEGIN:VEVENT
DTSTART;VALUE=DATE:20230611
DTEND;VALUE=DATE:20230612
DTSTAMP:20260423T045405
CREATED:20230501T141139Z
LAST-MODIFIED:20230501T141139Z
UID:3207-1686441600-1686527999@www.suebu.org.uy
SUMMARY:Gastón Domínguez
DESCRIPTION:
URL:https://www.suebu.org.uy/event/gaston-dominguez-2/
END:VEVENT
BEGIN:VEVENT
DTSTART;VALUE=DATE:20230604
DTEND;VALUE=DATE:20230605
DTSTAMP:20260423T045405
CREATED:20230215T185700Z
LAST-MODIFIED:20230215T185700Z
UID:3165-1685836800-1685923199@www.suebu.org.uy
SUMMARY:Daniel Velazco
DESCRIPTION:
URL:https://www.suebu.org.uy/event/daniel-velazco/
END:VEVENT
BEGIN:VEVENT
DTSTART;VALUE=DATE:20230603
DTEND;VALUE=DATE:20230604
DTSTAMP:20260423T045405
CREATED:20230131T042731Z
LAST-MODIFIED:20230215T185604Z
UID:3148-1685750400-1685836799@www.suebu.org.uy
SUMMARY:Sergio Balzarini
DESCRIPTION:
URL:https://www.suebu.org.uy/event/sergio-balzarini/
END:VEVENT
BEGIN:VEVENT
DTSTART;TZID=America/Montevideo:20230527T080000
DTEND;TZID=America/Montevideo:20230527T170000
DTSTAMP:20260423T045405
CREATED:20230404T231930Z
LAST-MODIFIED:20230404T231930Z
UID:3195-1685174400-1685206800@www.suebu.org.uy
SUMMARY:Agustin Cestau
DESCRIPTION:
URL:https://www.suebu.org.uy/event/agustin-cestau/
END:VEVENT
END:VCALENDAR