BEGIN:VCALENDAR
VERSION:2.0
PRODID:-//SUEBU - ECPv6.15.17//NONSGML v1.0//EN
CALSCALE:GREGORIAN
METHOD:PUBLISH
X-WR-CALNAME:SUEBU
X-ORIGINAL-URL:https://www.suebu.org.uy
X-WR-CALDESC:Eventos para SUEBU
REFRESH-INTERVAL;VALUE=DURATION:PT1H
X-Robots-Tag:noindex
X-PUBLISHED-TTL:PT1H
BEGIN:VTIMEZONE
TZID:America/Montevideo
BEGIN:STANDARD
TZOFFSETFROM:-0300
TZOFFSETTO:-0300
TZNAME:-03
DTSTART:20230101T000000
END:STANDARD
END:VTIMEZONE
BEGIN:VEVENT
DTSTART;VALUE=DATE:20240511
DTEND;VALUE=DATE:20240512
DTSTAMP:20260422T204440
CREATED:20240214T211245Z
LAST-MODIFIED:20240214T211245Z
UID:3757-1715385600-1715471999@www.suebu.org.uy
SUMMARY:Alejandro Cordatti
DESCRIPTION:
URL:https://www.suebu.org.uy/event/alejandro-cordatti/
END:VEVENT
BEGIN:VEVENT
DTSTART;VALUE=DATE:20240505
DTEND;VALUE=DATE:20240506
DTSTAMP:20260422T204440
CREATED:20240411T232033Z
LAST-MODIFIED:20240411T232033Z
UID:3806-1714867200-1714953599@www.suebu.org.uy
SUMMARY:Yemina Nemer
DESCRIPTION:
URL:https://www.suebu.org.uy/event/yemina-nemer/
END:VEVENT
BEGIN:VEVENT
DTSTART;VALUE=DATE:20240504
DTEND;VALUE=DATE:20240505
DTSTAMP:20260422T204440
CREATED:20240407T145109Z
LAST-MODIFIED:20240411T232059Z
UID:3798-1714780800-1714867199@www.suebu.org.uy
SUMMARY:Carol Cóceres
DESCRIPTION:
URL:https://www.suebu.org.uy/event/carol-coceres-3/
END:VEVENT
BEGIN:VEVENT
DTSTART;VALUE=DATE:20240427
DTEND;VALUE=DATE:20240428
DTSTAMP:20260422T204440
CREATED:20240402T143942Z
LAST-MODIFIED:20240402T143942Z
UID:3796-1714176000-1714262399@www.suebu.org.uy
SUMMARY:María Blanco
DESCRIPTION:
URL:https://www.suebu.org.uy/event/maria-blanco-6/
END:VEVENT
BEGIN:VEVENT
DTSTART;VALUE=DATE:20240426
DTEND;VALUE=DATE:20240427
DTSTAMP:20260422T204440
CREATED:20240322T141310Z
LAST-MODIFIED:20240322T141310Z
UID:3788-1714089600-1714175999@www.suebu.org.uy
SUMMARY:Angelina Rostán
DESCRIPTION:
URL:https://www.suebu.org.uy/event/angelina-rostan-3/
END:VEVENT
BEGIN:VEVENT
DTSTART;VALUE=DATE:20240424
DTEND;VALUE=DATE:20240425
DTSTAMP:20260422T204440
CREATED:20240419T165847Z
LAST-MODIFIED:20240419T165847Z
UID:3808-1713916800-1714003199@www.suebu.org.uy
SUMMARY:Maikol Sololuce
DESCRIPTION:
URL:https://www.suebu.org.uy/event/maikol-sololuce/
END:VEVENT
BEGIN:VEVENT
DTSTART;VALUE=DATE:20240415
DTEND;VALUE=DATE:20240416
DTSTAMP:20260422T204440
CREATED:20240214T211120Z
LAST-MODIFIED:20240214T211120Z
UID:3753-1713139200-1713225599@www.suebu.org.uy
SUMMARY:Esteban Sánchez
DESCRIPTION:
URL:https://www.suebu.org.uy/event/esteban-sanchez-2/
END:VEVENT
BEGIN:VEVENT
DTSTART;VALUE=DATE:20240414
DTEND;VALUE=DATE:20240415
DTSTAMP:20260422T204440
CREATED:20240409T050226Z
LAST-MODIFIED:20240409T050226Z
UID:3802-1713052800-1713139199@www.suebu.org.uy
SUMMARY:Natalia Kirchmeier
DESCRIPTION:
URL:https://www.suebu.org.uy/event/natalia-kirchmeier/
END:VEVENT
BEGIN:VEVENT
DTSTART;VALUE=DATE:20240413
DTEND;VALUE=DATE:20240414
DTSTAMP:20260422T204440
CREATED:20240316T160353Z
LAST-MODIFIED:20240316T160353Z
UID:3775-1712966400-1713052799@www.suebu.org.uy
SUMMARY:Maria Blanco
DESCRIPTION:
URL:https://www.suebu.org.uy/event/maria-blanco-5/
END:VEVENT
BEGIN:VEVENT
DTSTART;VALUE=DATE:20240407
DTEND;VALUE=DATE:20240408
DTSTAMP:20260422T204440
CREATED:20240326T232238Z
LAST-MODIFIED:20240326T232238Z
UID:3792-1712448000-1712534399@www.suebu.org.uy
SUMMARY:Gastón Dominguez
DESCRIPTION:
URL:https://www.suebu.org.uy/event/gaston-dominguez-9/
END:VEVENT
BEGIN:VEVENT
DTSTART;VALUE=DATE:20240406
DTEND;VALUE=DATE:20240407
DTSTAMP:20260422T204440
CREATED:20240316T160300Z
LAST-MODIFIED:20240316T160300Z
UID:3773-1712361600-1712447999@www.suebu.org.uy
SUMMARY:Angelina Rostán
DESCRIPTION:
URL:https://www.suebu.org.uy/event/angelina-rostan-2/
END:VEVENT
BEGIN:VEVENT
DTSTART;VALUE=DATE:20240405
DTEND;VALUE=DATE:20240406
DTSTAMP:20260422T204440
CREATED:20240130T082045Z
LAST-MODIFIED:20240318T211330Z
UID:3750-1712275200-1712361599@www.suebu.org.uy
SUMMARY:Jeannina Imberno
DESCRIPTION:
URL:https://www.suebu.org.uy/event/jeannina-imberno/
END:VEVENT
BEGIN:VEVENT
DTSTART;VALUE=DATE:20240404
DTEND;VALUE=DATE:20240405
DTSTAMP:20260422T204440
CREATED:20240322T141519Z
LAST-MODIFIED:20240322T141519Z
UID:3790-1712188800-1712275199@www.suebu.org.uy
SUMMARY:Carlos Sampson
DESCRIPTION:
URL:https://www.suebu.org.uy/event/carlos-sampson/
END:VEVENT
BEGIN:VEVENT
DTSTART;VALUE=DATE:20240323
DTEND;VALUE=DATE:20240324
DTSTAMP:20260422T204440
CREATED:20240316T160131Z
LAST-MODIFIED:20240316T160131Z
UID:3771-1711152000-1711238399@www.suebu.org.uy
SUMMARY:Gastón Dominguez
DESCRIPTION:
URL:https://www.suebu.org.uy/event/gaston-dominguez-7/
END:VEVENT
BEGIN:VEVENT
DTSTART;VALUE=DATE:20240317
DTEND;VALUE=DATE:20240318
DTSTAMP:20260422T204440
CREATED:20240308T190805Z
LAST-MODIFIED:20240308T190805Z
UID:3768-1710633600-1710719999@www.suebu.org.uy
SUMMARY:Paola Rodriguez
DESCRIPTION:
URL:https://www.suebu.org.uy/event/paola-rodriguez/
END:VEVENT
BEGIN:VEVENT
DTSTART;VALUE=DATE:20240316
DTEND;VALUE=DATE:20240317
DTSTAMP:20260422T204440
CREATED:20240130T081949Z
LAST-MODIFIED:20240130T081949Z
UID:3748-1710547200-1710633599@www.suebu.org.uy
SUMMARY:Carlos Viera
DESCRIPTION:
URL:https://www.suebu.org.uy/event/carlos-viera-2/
END:VEVENT
BEGIN:VEVENT
DTSTART;VALUE=DATE:20240309
DTEND;VALUE=DATE:20240310
DTSTAMP:20260422T204440
CREATED:20240116T143116Z
LAST-MODIFIED:20240116T143116Z
UID:3743-1709942400-1710028799@www.suebu.org.uy
SUMMARY:Dayana Carballo
DESCRIPTION:
URL:https://www.suebu.org.uy/event/dayana-carballo-3/
END:VEVENT
BEGIN:VEVENT
DTSTART;VALUE=DATE:20240302
DTEND;VALUE=DATE:20240303
DTSTAMP:20260422T204440
CREATED:20231215T111156Z
LAST-MODIFIED:20231215T111156Z
UID:3732-1709337600-1709423999@www.suebu.org.uy
SUMMARY:Javier Perdomo
DESCRIPTION:
URL:https://www.suebu.org.uy/event/javier-perdomo/
END:VEVENT
BEGIN:VEVENT
DTSTART;VALUE=DATE:20240225
DTEND;VALUE=DATE:20240226
DTSTAMP:20260422T204440
CREATED:20231207T184525Z
LAST-MODIFIED:20231207T184525Z
UID:3723-1708819200-1708905599@www.suebu.org.uy
SUMMARY:Gastón Dominguez
DESCRIPTION:
URL:https://www.suebu.org.uy/event/gaston-dominguez-6/
END:VEVENT
BEGIN:VEVENT
DTSTART;VALUE=DATE:20240224
DTEND;VALUE=DATE:20240225
DTSTAMP:20260422T204440
CREATED:20231215T111114Z
LAST-MODIFIED:20231215T111114Z
UID:3730-1708732800-1708819199@www.suebu.org.uy
SUMMARY:Yessica Techera
DESCRIPTION:
URL:https://www.suebu.org.uy/event/yessica-techera/
END:VEVENT
BEGIN:VEVENT
DTSTART;VALUE=DATE:20240223
DTEND;VALUE=DATE:20240224
DTSTAMP:20260422T204440
CREATED:20240130T081848Z
LAST-MODIFIED:20240130T081848Z
UID:3746-1708646400-1708732799@www.suebu.org.uy
SUMMARY:Alberto Gómez
DESCRIPTION:
URL:https://www.suebu.org.uy/event/alberto-gomez-2/
END:VEVENT
BEGIN:VEVENT
DTSTART;VALUE=DATE:20240217
DTEND;VALUE=DATE:20240218
DTSTAMP:20260422T204440
CREATED:20240116T143009Z
LAST-MODIFIED:20240116T143009Z
UID:3741-1708128000-1708214399@www.suebu.org.uy
SUMMARY:Jimena Montfalcon
DESCRIPTION:
URL:https://www.suebu.org.uy/event/jimena-montfalcon-8/
END:VEVENT
BEGIN:VEVENT
DTSTART;VALUE=DATE:20240216
DTEND;VALUE=DATE:20240217
DTSTAMP:20260422T204440
CREATED:20240214T211432Z
LAST-MODIFIED:20240214T211432Z
UID:3759-1708041600-1708127999@www.suebu.org.uy
SUMMARY:César Díaz
DESCRIPTION:
URL:https://www.suebu.org.uy/event/cesar-diaz-2/
END:VEVENT
BEGIN:VEVENT
DTSTART;VALUE=DATE:20240212
DTEND;VALUE=DATE:20240213
DTSTAMP:20260422T204440
CREATED:20240116T142937Z
LAST-MODIFIED:20240116T142937Z
UID:3739-1707696000-1707782399@www.suebu.org.uy
SUMMARY:Bettina Gallo
DESCRIPTION:
URL:https://www.suebu.org.uy/event/bettina-gallo-3/
END:VEVENT
BEGIN:VEVENT
DTSTART;VALUE=DATE:20240210
DTEND;VALUE=DATE:20240211
DTSTAMP:20260422T204440
CREATED:20231215T111016Z
LAST-MODIFIED:20231215T111016Z
UID:3728-1707523200-1707609599@www.suebu.org.uy
SUMMARY:Jennifer Galvan
DESCRIPTION:
URL:https://www.suebu.org.uy/event/jennifer-galvan/
END:VEVENT
BEGIN:VEVENT
DTSTART;VALUE=DATE:20240209
DTEND;VALUE=DATE:20240210
DTSTAMP:20260422T204440
CREATED:20240116T142853Z
LAST-MODIFIED:20240116T142853Z
UID:3737-1707436800-1707523199@www.suebu.org.uy
SUMMARY:Jimena Montfalcon
DESCRIPTION:
URL:https://www.suebu.org.uy/event/jimena-montfalcon-7/
END:VEVENT
BEGIN:VEVENT
DTSTART;VALUE=DATE:20240204
DTEND;VALUE=DATE:20240205
DTSTAMP:20260422T204440
CREATED:20231031T191348Z
LAST-MODIFIED:20231031T191529Z
UID:3604-1707004800-1707091199@www.suebu.org.uy
SUMMARY:Osvaldo Suárez
DESCRIPTION:
URL:https://www.suebu.org.uy/event/osvaldo-suarez-2/
END:VEVENT
BEGIN:VEVENT
DTSTART;VALUE=DATE:20240202
DTEND;VALUE=DATE:20240203
DTSTAMP:20260422T204440
CREATED:20240116T142801Z
LAST-MODIFIED:20240116T142801Z
UID:3735-1706832000-1706918399@www.suebu.org.uy
SUMMARY:Carol Cóceres
DESCRIPTION:
URL:https://www.suebu.org.uy/event/carol-coceres-2/
END:VEVENT
BEGIN:VEVENT
DTSTART;VALUE=DATE:20240128
DTEND;VALUE=DATE:20240129
DTSTAMP:20260422T204440
CREATED:20231031T191315Z
LAST-MODIFIED:20231031T191315Z
UID:3602-1706400000-1706486399@www.suebu.org.uy
SUMMARY:Javier Cardinal
DESCRIPTION:
URL:https://www.suebu.org.uy/event/javier-cardinal/
END:VEVENT
BEGIN:VEVENT
DTSTART;VALUE=DATE:20240120
DTEND;VALUE=DATE:20240121
DTSTAMP:20260422T204440
CREATED:20231215T110920Z
LAST-MODIFIED:20231215T110920Z
UID:3726-1705708800-1705795199@www.suebu.org.uy
SUMMARY:Richard Vique
DESCRIPTION:
URL:https://www.suebu.org.uy/event/richard-vique-3/
END:VEVENT
END:VCALENDAR