BEGIN:VCALENDAR
VERSION:2.0
PRODID:-//SUEBU - ECPv6.15.17//NONSGML v1.0//EN
CALSCALE:GREGORIAN
METHOD:PUBLISH
X-WR-CALNAME:SUEBU
X-ORIGINAL-URL:https://www.suebu.org.uy
X-WR-CALDESC:Eventos para SUEBU
REFRESH-INTERVAL;VALUE=DURATION:PT1H
X-Robots-Tag:noindex
X-PUBLISHED-TTL:PT1H
BEGIN:VTIMEZONE
TZID:America/Montevideo
BEGIN:STANDARD
TZOFFSETFROM:-0300
TZOFFSETTO:-0300
TZNAME:-03
DTSTART:20230101T000000
END:STANDARD
END:VTIMEZONE
BEGIN:VEVENT
DTSTART;VALUE=DATE:20240831
DTEND;VALUE=DATE:20240901
DTSTAMP:20260422T155708
CREATED:20240715T232204Z
LAST-MODIFIED:20240715T232204Z
UID:3896-1725062400-1725148799@www.suebu.org.uy
SUMMARY:Alejandro Nava
DESCRIPTION:
URL:https://www.suebu.org.uy/event/alejandro-nava/
END:VEVENT
BEGIN:VEVENT
DTSTART;VALUE=DATE:20240824
DTEND;VALUE=DATE:20240825
DTSTAMP:20260422T155708
CREATED:20240813T165227Z
LAST-MODIFIED:20240813T165227Z
UID:3916-1724457600-1724543999@www.suebu.org.uy
SUMMARY:Fernando Castro
DESCRIPTION:
URL:https://www.suebu.org.uy/event/fernando-castro-2/
END:VEVENT
BEGIN:VEVENT
DTSTART;VALUE=DATE:20240818
DTEND;VALUE=DATE:20240819
DTSTAMP:20260422T155708
CREATED:20240801T193429Z
LAST-MODIFIED:20240801T193429Z
UID:3907-1723939200-1724025599@www.suebu.org.uy
SUMMARY:Leo Schialvo
DESCRIPTION:
URL:https://www.suebu.org.uy/event/leo-schialvo-6/
END:VEVENT
BEGIN:VEVENT
DTSTART;VALUE=DATE:20240817
DTEND;VALUE=DATE:20240818
DTSTAMP:20260422T155708
CREATED:20240613T203936Z
LAST-MODIFIED:20240613T203936Z
UID:3863-1723852800-1723939199@www.suebu.org.uy
SUMMARY:Daniel Vázquez
DESCRIPTION:
URL:https://www.suebu.org.uy/event/daniel-vazquez/
END:VEVENT
BEGIN:VEVENT
DTSTART;VALUE=DATE:20240811
DTEND;VALUE=DATE:20240812
DTSTAMP:20260422T155708
CREATED:20240711T201519Z
LAST-MODIFIED:20240711T201605Z
UID:3887-1723334400-1723420799@www.suebu.org.uy
SUMMARY:Ramiro Zapata
DESCRIPTION:
URL:https://www.suebu.org.uy/event/ramiro-zapata/
END:VEVENT
BEGIN:VEVENT
DTSTART;VALUE=DATE:20240810
DTEND;VALUE=DATE:20240811
DTSTAMP:20260422T155708
CREATED:20240504T155413Z
LAST-MODIFIED:20240504T155413Z
UID:3826-1723248000-1723334399@www.suebu.org.uy
SUMMARY:Romina Gutierrez
DESCRIPTION:
URL:https://www.suebu.org.uy/event/romina-gutierrez-2/
END:VEVENT
BEGIN:VEVENT
DTSTART;VALUE=DATE:20240809
DTEND;VALUE=DATE:20240810
DTSTAMP:20260422T155708
CREATED:20240801T193318Z
LAST-MODIFIED:20240801T193318Z
UID:3905-1723161600-1723247999@www.suebu.org.uy
SUMMARY:Turno 4
DESCRIPTION:
URL:https://www.suebu.org.uy/event/turno-4/
END:VEVENT
BEGIN:VEVENT
DTSTART;VALUE=DATE:20240804
DTEND;VALUE=DATE:20240805
DTSTAMP:20260422T155708
CREATED:20240711T201633Z
LAST-MODIFIED:20240711T201633Z
UID:3889-1722729600-1722815999@www.suebu.org.uy
SUMMARY:Juanjo Andrada
DESCRIPTION:
URL:https://www.suebu.org.uy/event/juanjo-andrada-4/
END:VEVENT
BEGIN:VEVENT
DTSTART;VALUE=DATE:20240803
DTEND;VALUE=DATE:20240804
DTSTAMP:20260422T155708
CREATED:20240624T033623Z
LAST-MODIFIED:20240624T033623Z
UID:3871-1722643200-1722729599@www.suebu.org.uy
SUMMARY:Jeniffer Galván
DESCRIPTION:
URL:https://www.suebu.org.uy/event/jeniffer-galvan-2/
END:VEVENT
BEGIN:VEVENT
DTSTART;VALUE=DATE:20240729
DTEND;VALUE=DATE:20240803
DTSTAMP:20260422T155708
CREATED:20240715T220552Z
LAST-MODIFIED:20240715T222146Z
UID:3893-1722211200-1722643199@www.suebu.org.uy
SUMMARY:Pintura Sede
DESCRIPTION:
URL:https://www.suebu.org.uy/event/pintura-sede/
END:VEVENT
BEGIN:VEVENT
DTSTART;VALUE=DATE:20240728
DTEND;VALUE=DATE:20240729
DTSTAMP:20260422T155708
CREATED:20240624T033512Z
LAST-MODIFIED:20240624T033512Z
UID:3869-1722124800-1722211199@www.suebu.org.uy
SUMMARY:Ignacio Méndez
DESCRIPTION:
URL:https://www.suebu.org.uy/event/ignacio-mendez-3/
END:VEVENT
BEGIN:VEVENT
DTSTART;VALUE=DATE:20240727
DTEND;VALUE=DATE:20240728
DTSTAMP:20260422T155708
CREATED:20240524T003722Z
LAST-MODIFIED:20240524T003722Z
UID:3849-1722038400-1722124799@www.suebu.org.uy
SUMMARY:Javier Villagrán
DESCRIPTION:
URL:https://www.suebu.org.uy/event/javier-villagran-2/
END:VEVENT
BEGIN:VEVENT
DTSTART;VALUE=DATE:20240725
DTEND;VALUE=DATE:20240726
DTSTAMP:20260422T155708
CREATED:20240613T203827Z
LAST-MODIFIED:20240613T203827Z
UID:3861-1721865600-1721951999@www.suebu.org.uy
SUMMARY:Carlos Sampson
DESCRIPTION:
URL:https://www.suebu.org.uy/event/carlos-sampson-2/
END:VEVENT
BEGIN:VEVENT
DTSTART;VALUE=DATE:20240721
DTEND;VALUE=DATE:20240722
DTSTAMP:20260422T155708
CREATED:20240419T170332Z
LAST-MODIFIED:20240508T191300Z
UID:3814-1721520000-1721606399@www.suebu.org.uy
SUMMARY:Yemina Nemer
DESCRIPTION:
URL:https://www.suebu.org.uy/event/yemina-nemer-2/
END:VEVENT
BEGIN:VEVENT
DTSTART;VALUE=DATE:20240720
DTEND;VALUE=DATE:20240721
DTSTAMP:20260422T155708
CREATED:20240613T203647Z
LAST-MODIFIED:20240613T203647Z
UID:3859-1721433600-1721519999@www.suebu.org.uy
SUMMARY:Nathalie Rodriguez
DESCRIPTION:
URL:https://www.suebu.org.uy/event/nathalie-rodriguez-3/
END:VEVENT
BEGIN:VEVENT
DTSTART;VALUE=DATE:20240719
DTEND;VALUE=DATE:20240720
DTSTAMP:20260422T155708
CREATED:20240704T040958Z
LAST-MODIFIED:20240704T040958Z
UID:3879-1721347200-1721433599@www.suebu.org.uy
SUMMARY:Jimena Montfalcon
DESCRIPTION:
URL:https://www.suebu.org.uy/event/jimena-montfalcon-10/
END:VEVENT
BEGIN:VEVENT
DTSTART;VALUE=DATE:20240713
DTEND;VALUE=DATE:20240714
DTSTAMP:20260422T155708
CREATED:20240504T155330Z
LAST-MODIFIED:20240504T155330Z
UID:3824-1720828800-1720915199@www.suebu.org.uy
SUMMARY:Alejandro Cordatti
DESCRIPTION:
URL:https://www.suebu.org.uy/event/alejandro-cordatti-2/
END:VEVENT
BEGIN:VEVENT
DTSTART;VALUE=DATE:20240712
DTEND;VALUE=DATE:20240713
DTSTAMP:20260422T155708
CREATED:20240513T175911Z
LAST-MODIFIED:20240513T175911Z
UID:3834-1720742400-1720828799@www.suebu.org.uy
SUMMARY:Jimena Montfalcon
DESCRIPTION:
URL:https://www.suebu.org.uy/event/jimena-montfalcon-9/
END:VEVENT
BEGIN:VEVENT
DTSTART;VALUE=DATE:20240707
DTEND;VALUE=DATE:20240708
DTSTAMP:20260422T155708
CREATED:20240524T003628Z
LAST-MODIFIED:20240524T003628Z
UID:3847-1720310400-1720396799@www.suebu.org.uy
SUMMARY:Valeria Barboza
DESCRIPTION:
URL:https://www.suebu.org.uy/event/valeria-barboza/
END:VEVENT
BEGIN:VEVENT
DTSTART;VALUE=DATE:20240706
DTEND;VALUE=DATE:20240707
DTSTAMP:20260422T155708
CREATED:20240504T155307Z
LAST-MODIFIED:20240504T155307Z
UID:3822-1720224000-1720310399@www.suebu.org.uy
SUMMARY:Julio Sánchez
DESCRIPTION:
URL:https://www.suebu.org.uy/event/julio-sanchez-2/
END:VEVENT
BEGIN:VEVENT
DTSTART;VALUE=DATE:20240630
DTEND;VALUE=DATE:20240701
DTSTAMP:20260422T155708
CREATED:20240524T003520Z
LAST-MODIFIED:20240524T003520Z
UID:3845-1719705600-1719791999@www.suebu.org.uy
SUMMARY:Jennifer Galván
DESCRIPTION:
URL:https://www.suebu.org.uy/event/jennifer-galvan-2/
END:VEVENT
BEGIN:VEVENT
DTSTART;VALUE=DATE:20240629
DTEND;VALUE=DATE:20240630
DTSTAMP:20260422T155708
CREATED:20240419T170143Z
LAST-MODIFIED:20240429T154825Z
UID:3812-1719619200-1719705599@www.suebu.org.uy
SUMMARY:Carlos Pose
DESCRIPTION:
URL:https://www.suebu.org.uy/event/carlos-pose/
END:VEVENT
BEGIN:VEVENT
DTSTART;VALUE=DATE:20240628
DTEND;VALUE=DATE:20240629
DTSTAMP:20260422T155708
CREATED:20240524T003410Z
LAST-MODIFIED:20240524T003410Z
UID:3843-1719532800-1719619199@www.suebu.org.uy
SUMMARY:Ramón Abadal
DESCRIPTION:
URL:https://www.suebu.org.uy/event/ramon-abadal-4/
END:VEVENT
BEGIN:VEVENT
DTSTART;VALUE=DATE:20240623
DTEND;VALUE=DATE:20240624
DTSTAMP:20260422T155708
CREATED:20240524T003311Z
LAST-MODIFIED:20240524T003311Z
UID:3841-1719100800-1719187199@www.suebu.org.uy
SUMMARY:Mauro Montes de Oca
DESCRIPTION:
URL:https://www.suebu.org.uy/event/mauro-montes-de-oca-2/
END:VEVENT
BEGIN:VEVENT
DTSTART;VALUE=DATE:20240622
DTEND;VALUE=DATE:20240623
DTSTAMP:20260422T155708
CREATED:20240526T215156Z
LAST-MODIFIED:20240526T215156Z
UID:3855-1719014400-1719100799@www.suebu.org.uy
SUMMARY:Gerardo Cardozo
DESCRIPTION:
URL:https://www.suebu.org.uy/event/gerardo-cardozo-3/
END:VEVENT
BEGIN:VEVENT
DTSTART;VALUE=DATE:20240616
DTEND;VALUE=DATE:20240617
DTSTAMP:20260422T155708
CREATED:20240316T160556Z
LAST-MODIFIED:20240316T160556Z
UID:3781-1718496000-1718582399@www.suebu.org.uy
SUMMARY:Mauricio Fonrodona
DESCRIPTION:
URL:https://www.suebu.org.uy/event/mauricio-fonrodona-6/
END:VEVENT
BEGIN:VEVENT
DTSTART;VALUE=DATE:20240615
DTEND;VALUE=DATE:20240616
DTSTAMP:20260422T155708
CREATED:20240316T160737Z
LAST-MODIFIED:20240419T170113Z
UID:3783-1718409600-1718495999@www.suebu.org.uy
SUMMARY:Sergio Balzarini
DESCRIPTION:
URL:https://www.suebu.org.uy/event/sergio-balzarini-2/
END:VEVENT
BEGIN:VEVENT
DTSTART;VALUE=DATE:20240608
DTEND;VALUE=DATE:20240609
DTSTAMP:20260422T155708
CREATED:20240316T160527Z
LAST-MODIFIED:20240316T160527Z
UID:3779-1717804800-1717891199@www.suebu.org.uy
SUMMARY:Jeniffer Galvan
DESCRIPTION:
URL:https://www.suebu.org.uy/event/jeniffer-galvan/
END:VEVENT
BEGIN:VEVENT
DTSTART;VALUE=DATE:20240607
DTEND;VALUE=DATE:20240608
DTSTAMP:20260422T155708
CREATED:20240524T003218Z
LAST-MODIFIED:20240524T003218Z
UID:3839-1717718400-1717804799@www.suebu.org.uy
SUMMARY:Dalmas - Cabral
DESCRIPTION:
URL:https://www.suebu.org.uy/event/dalmas-cabral/
END:VEVENT
BEGIN:VEVENT
DTSTART;VALUE=DATE:20240606
DTEND;VALUE=DATE:20240607
DTSTAMP:20260422T155708
CREATED:20240504T155209Z
LAST-MODIFIED:20240504T155209Z
UID:3820-1717632000-1717718399@www.suebu.org.uy
SUMMARY:Christopher Aldama
DESCRIPTION:
URL:https://www.suebu.org.uy/event/christopher-aldama-2/
END:VEVENT
END:VCALENDAR