BEGIN:VCALENDAR
VERSION:2.0
PRODID:-//SUEBU - ECPv6.15.17//NONSGML v1.0//EN
CALSCALE:GREGORIAN
METHOD:PUBLISH
X-ORIGINAL-URL:https://www.suebu.org.uy
X-WR-CALDESC:Eventos para SUEBU
REFRESH-INTERVAL;VALUE=DURATION:PT1H
X-Robots-Tag:noindex
X-PUBLISHED-TTL:PT1H
BEGIN:VTIMEZONE
TZID:America/Montevideo
BEGIN:STANDARD
TZOFFSETFROM:-0300
TZOFFSETTO:-0300
TZNAME:-03
DTSTART:20250101T000000
END:STANDARD
END:VTIMEZONE
BEGIN:VEVENT
DTSTART;VALUE=DATE:20260412
DTEND;VALUE=DATE:20260501
DTSTAMP:20260421T172804
CREATED:20260325T211258Z
LAST-MODIFIED:20260325T211258Z
UID:4277-1775952000-1777593599@www.suebu.org.uy
SUMMARY:Joaquín Romero
DESCRIPTION:
URL:https://www.suebu.org.uy/event/joaquin-romero-8/
END:VEVENT
BEGIN:VEVENT
DTSTART;VALUE=DATE:20260503
DTEND;VALUE=DATE:20260612
DTSTAMP:20260421T172804
CREATED:20260325T211534Z
LAST-MODIFIED:20260325T211534Z
UID:4280-1777766400-1781222399@www.suebu.org.uy
SUMMARY:Yemina Nemer
DESCRIPTION:
URL:https://www.suebu.org.uy/event/yemina-nemer-5/
END:VEVENT
BEGIN:VEVENT
DTSTART;VALUE=DATE:20260614
DTEND;VALUE=DATE:20260904
DTSTAMP:20260421T172804
CREATED:20260325T211728Z
LAST-MODIFIED:20260325T211728Z
UID:4282-1781395200-1788479999@www.suebu.org.uy
SUMMARY:Mariana Pérez
DESCRIPTION:
URL:https://www.suebu.org.uy/event/mariana-perez/
END:VEVENT
BEGIN:VEVENT
DTSTART;VALUE=DATE:20260627
DTEND;VALUE=DATE:20260628
DTSTAMP:20260421T172804
CREATED:20260325T211851Z
LAST-MODIFIED:20260325T211851Z
UID:4284-1782518400-1782604799@www.suebu.org.uy
SUMMARY:Emiliano Arbiza
DESCRIPTION:
URL:https://www.suebu.org.uy/event/emiliano-arbiza/
END:VEVENT
BEGIN:VEVENT
DTSTART;VALUE=DATE:20260711
DTEND;VALUE=DATE:20260712
DTSTAMP:20260421T172804
CREATED:20260225T225910Z
LAST-MODIFIED:20260225T225910Z
UID:4245-1783728000-1783814399@www.suebu.org.uy
SUMMARY:Ignacio Méndez
DESCRIPTION:
URL:https://www.suebu.org.uy/event/ignacio-mendez-5/
END:VEVENT
BEGIN:VEVENT
DTSTART;VALUE=DATE:20260726
DTEND;VALUE=DATE:20260727
DTSTAMP:20260421T172804
CREATED:20260225T230031Z
LAST-MODIFIED:20260225T230031Z
UID:4247-1785024000-1785110399@www.suebu.org.uy
SUMMARY:Juan Manuel da Costa
DESCRIPTION:
URL:https://www.suebu.org.uy/event/juan-manuel-da-costa-2/
END:VEVENT
BEGIN:VEVENT
DTSTART;VALUE=DATE:20260808
DTEND;VALUE=DATE:20260809
DTSTAMP:20260421T172804
CREATED:20260225T230139Z
LAST-MODIFIED:20260225T230139Z
UID:4249-1786147200-1786233599@www.suebu.org.uy
SUMMARY:Jeniffer Galván
DESCRIPTION:
URL:https://www.suebu.org.uy/event/jeniffer-galvan-5/
END:VEVENT
END:VCALENDAR