BEGIN:VCALENDAR
VERSION:2.0
PRODID:-//SUEBU - ECPv6.15.17//NONSGML v1.0//EN
CALSCALE:GREGORIAN
METHOD:PUBLISH
X-WR-CALNAME:SUEBU
X-ORIGINAL-URL:https://www.suebu.org.uy
X-WR-CALDESC:Eventos para SUEBU
REFRESH-INTERVAL;VALUE=DURATION:PT1H
X-Robots-Tag:noindex
X-PUBLISHED-TTL:PT1H
BEGIN:VTIMEZONE
TZID:America/Montevideo
BEGIN:STANDARD
TZOFFSETFROM:-0300
TZOFFSETTO:-0300
TZNAME:-03
DTSTART:20250101T000000
END:STANDARD
END:VTIMEZONE
BEGIN:VEVENT
DTSTART;VALUE=DATE:20260308
DTEND;VALUE=DATE:20260309
DTSTAMP:20260421T184718
CREATED:20260205T200631Z
LAST-MODIFIED:20260205T200631Z
UID:4231-1772928000-1773014399@www.suebu.org.uy
SUMMARY:Natalia Vázquez
DESCRIPTION:
URL:https://www.suebu.org.uy/event/natalia-vazquez-2/
END:VEVENT
END:VCALENDAR